BEGIN:VCALENDAR
CALSCALE:GREGORIAN
VERSION:2.0
PRODID:-//Elixir ICalendar//Elixir ICalendar//EN
BEGIN:VEVENT
CATEGORIES:musik,mallorca,schlager
DESCRIPTION:Würzburg OLÉ - Die größte Mallorca Party-Tour der Welt\n\nWürzburg Olé Giebelstadt\, Flugplatz Giebelstadt - Sa\, 30. Aug 2025\n\n
DTSTAMP:20260421T172034Z
DTSTART;TZID=Europe/Berlin:20250830T140000
GEO:49.64907012039082;9.973354339599611
LOCATION:Flugplatz  97232 Giebelstadt Bayern Deutschland
ORGANIZER:Stadt Würzburg
STATUS:CONFIRMED
SUMMARY:OLÉ Party-Tour - Die größte Mallorca Party-Tour der Welt - Würzburg OLÉ - Die größte Mallorca Party-Tour der Welt
UID:b7367f28-b129-442d-acb0-45a2ed4c1617
URL:https://events.smartcityhub-staging.smartandpublic.eu/events/b7367f28-b129-442d-acb0-45a2ed4c1617
END:VEVENT
BEGIN:VEVENT
CATEGORIES:supersauber,dreckwegtag
DESCRIPTION:Im letzten Jahr haben sich rd. 70 kleine und große Bewohner Lengfelds eingefunden um zu helfen! Wir sagen Danke an dieser Stelle!\n\nDie Sammelaktion – Sauberes Lengfeld 2025 – beginnt am 15.03.2024 um 10:00 Uhr auf dem Parkplatz an der Kürnachtalhalle.\n\nAb 12:30 Uhr reichen wir für die Sammler Getränke und einen kleinen Imbiss diesmal am Beachvolleyballplatz! An dieser Stelle einen herzlichen Dank\, an alle\, die mit Spenden diese Aktion unterstützen!\n\nMöchten Sie sich als Sponsor an dieser Aktion beteiligen ? – Nehmen Sie Kontakt mit uns auf über das Kontaktformular oder per mail vorstand@bv-lengfeld.de\n\nPlastiksäcke\, Eimer und Zangen sowie Sammelcontainer werden von den Stadtreinigern und der Umweltstation zur Verfügung gestellt. Handschuhe bitte selbst mitbringen!\n\nKinder können nur in Begleitung eines verantwortlichen Erwachsenen teilnehmen. Selbstverständlich kann ein Erwachsener mehrere Kinder betreuen.\n\nWir bitten Sie besonders entsprechend der Witterung und dem Vorhaben auf angepasste Kleidung und festes Schuhwerk zu achten.\n\nÜber eine rege Beteiligung würden wir uns sehr freuen und möchten schon jetzt allen Aktiven danken\, die an dieser Aktion teilnehmen!\n\n
DTEND;TZID=Europe/Berlin:20250315T123000
DTSTAMP:20260421T172034Z
DTSTART;TZID=Europe/Berlin:20250315T100000
GEO:49.810320000000004;9.984518296023325
LOCATION:Kürnachtalhalle 118 Werner-von-Siemens-Straße 97076 Würzburg Bayern Deutschland
ORGANIZER:Karina Büttner
STATUS:CONFIRMED
SUMMARY:Sauberes Lengfeld 2025
UID:251a8c3d-1948-48b4-99a9-2cc4b21bc5bb
URL:https://events.smartcityhub-staging.smartandpublic.eu/events/251a8c3d-1948-48b4-99a9-2cc4b21bc5bb
END:VEVENT
BEGIN:VEVENT
DESCRIPTION:Und wieder wird das Dürrbachtal zum Schauplatz seltsamer Umtrieb\, die das Dorf und Ihre Bewohner in Unruhe versetzen. Mit der Wiederaufnahme von "Out of Dürrbachtal" präsentiert die Theatergruppe im Dürrbachtal erneut ein Stück aus der Feder von Johannes Jung. Am 18. und 19. Januar wird das Theaterstück in der ATV-Jahn-Halle zu sehen sein. Eintritt frei\, Platzreservierungen ab sofort bitte per E-Mail an theater-duerrbachtal@web.de\n\n
DTEND;TZID=Europe/Berlin:20250119T213000
DTSTAMP:20260421T172034Z
DTSTART;TZID=Europe/Berlin:20250119T183000
GEO:49.8145654;9.9175499
LOCATION:Jahngaststätte 169 Dürrbachtal 97080 Würzburg Bayern Deutschland
ORGANIZER:Stadt Würzburg
STATUS:CONFIRMED
SUMMARY:Out of Dürrbachtal
UID:edc1c0cc-9316-4c0f-b194-03ed9bb07757
URL:https://events.smartcityhub-staging.smartandpublic.eu/events/edc1c0cc-9316-4c0f-b194-03ed9bb07757
END:VEVENT
BEGIN:VEVENT
DESCRIPTION:Und wieder wird das Dürrbachtal zum Schauplatz seltsamer Umtrieb\, die das Dorf und Ihre Bewohner in Unruhe versetzen. Mit der Wiederaufnahme von "Out of Dürrbachtal" präsentiert die Theatergruppe im Dürrbachtal erneut ein Stück aus der Feder von Johannes Jung. Am 18. und 19. Januar wird das Theaterstück in der ATV-Jahn-Halle zu sehen sein. Eintritt frei\, Platzreservierungen ab sofort bitte per E-Mail an theater-duerrbachtal@web.de.\n\n
DTEND;TZID=Europe/Berlin:20250118T213000
DTSTAMP:20260421T172034Z
DTSTART;TZID=Europe/Berlin:20250118T183000
GEO:49.8145654;9.9175499
LOCATION:Jahngaststätte 169 Dürrbachtal 97080 Würzburg Bayern Deutschland
ORGANIZER:Stadt Würzburg
STATUS:CONFIRMED
SUMMARY:Out of Dürrbachtal
UID:18fe4b2f-0cb5-4746-9209-fb95915e526a
URL:https://events.smartcityhub-staging.smartandpublic.eu/events/18fe4b2f-0cb5-4746-9209-fb95915e526a
END:VEVENT
BEGIN:VEVENT
DESCRIPTION:Am Abend des 4. Advent versammeln sich große und kleine Sängerinnen und Sänger auf dem Ehrenhof des Würzburger Rathauses\, um sich gemeinsam auf Weihnachten einzustimmen.\n\nDiese Tradition ist für viele nicht mehr wegzudenken: das Offene Weihnachtssingen der Stadt Würzburg. Rund um den Weihnachtsbaum im Rathaushof singen Klein und Groß seit 45 Jahren zusammen bekannte deutsche und fremdsprachige Weihnachtslieder. Unterstützt werden sie dabei von der Sing- und Musikschule Würzburg. In diesem Jahr werden zudem die Sopranistin Stella-Verona Ulrich und die Società Dante Alighieri e. V. mit italienischen Weihnachtsliedern zu hören sein. Damit wird der Städtefreundschaft zwischen Würzburg und Siracusa (Syrakus) gedacht.\n\nDas dazugehörige Liederbüchlein wird vor dem Singen kostenlos verteilt und ist vorab schon an den Weihnachtsmarkt-Buden\, im Bürgerbüro und in der Tourist Information im Falkenhaus erhältlich. Bei schlechtem Wetter wird in der Marienkapelle am Marktplatz gesungen.\n\n
DTEND;TZID=Europe/Berlin:20241222T193000
DTSTAMP:20260421T172034Z
DTSTART;TZID=Europe/Berlin:20241222T180000
GEO:49.793921;9.9284931
LOCATION:Ehrenhof Rathaus Würzburg 2 Rückermainstraße 97070 Würzburg Bayern Deutschland
ORGANIZER:developer
STATUS:CONFIRMED
SUMMARY:Offenes Weihnachtssingen der Stadt Würzburg 2024
UID:aa46ea51-7227-4993-8696-1b3e2a17e645
URL:https://events.smartcityhub-staging.smartandpublic.eu/events/aa46ea51-7227-4993-8696-1b3e2a17e645
END:VEVENT
BEGIN:VEVENT
CATEGORIES:musical,bühne
DESCRIPTION:Erleben Sie DIE STILLE NACHT - Das Weihnachtsmusical - am 20.12.2024 und entdecken Sie im Congress Centrum Würzburg die Weihnachtsgeschichte auf neue\, spannende und überraschende Weise.\n\nDieses einzigartige Musical erzählt auf berührende Art die wahre Bedeutung und Entstehungsgeschichte von Weihnachten und ist ein Klassiker in neuem Gewand. Am 24. Dezember klingelt es unerwartet an der Tür und Gabrielle\, das Mädchen im Haus\, wird von einem jungen Pärchen auf der Suche nach einer Übernachtungsmöglichkeit überrascht. Gabrielles Vater schickt die Gäste genervt wieder weg. Doch Gabrielle lässt der Besuch keine Ruhe. Sie macht sich trotz Schneegestöber auf die Suche nach den beiden Fremden und erlebt dabei ein zauberhaftes Abenteuer\, das die Zuschauer auf eine Reise zurück ins Jahr 0 mitnimmt.\n\n
DTSTAMP:20260421T172034Z
DTSTART;TZID=Europe/Berlin:20241220T190000
GEO:49.7978885;9.925206264653646
LOCATION:Congress Centrum Kranenkai 97070 Würzburg Bayern Deutschland
ORGANIZER:Stadt Würzburg
STATUS:CONFIRMED
SUMMARY:Die Stille Nacht - Das Weihnachtsmusical
UID:11b09190-00d9-4726-82e6-b555a9e692fe
URL:https://events.smartcityhub-staging.smartandpublic.eu/events/11b09190-00d9-4726-82e6-b555a9e692fe
END:VEVENT
BEGIN:VEVENT
DESCRIPTION:Der Würzburger Kneipenchor feiert sein Jahresfinale\n\nDer Würzburger Kneipenchor lädt zum großen Jahresfinale. Frei nach dem Motto „Immer noch keine stille Nacht“ haben die rund 40 Sänger*innen ein wildes Set mit heißgeliebten Kneipenchor-Klassikern und neuen Überraschungssongs im Gepäck.\n\nNach dem ausverkauften Konzert im letzten Jahr\, gibt’s dieses Jahr gleich zwei Abende hintereinander volle Kneipenchor-Power: Am 18. & 19.12. (Schnell Tickets sichern ist wahrscheinlich trotzdem keine schlechte Idee...)\n\n
DTEND;TZID=Europe/Berlin:20241219T220000
DTSTAMP:20260421T172034Z
DTSTART;TZID=Europe/Berlin:20241219T200000
GEO:49.7896334;9.92469537663853
LOCATION:Jugendkulturhaus Cairo 3 Fred-Joseph-Platz 97082 Würzburg Bayern Deutschland
ORGANIZER:Tilman Hampl
STATUS:CONFIRMED
SUMMARY:Kneipenchor: Immer noch keine stille Nacht
UID:03fffbee-e276-42e0-bf7e-daf34b2c1769
URL:https://events.smartcityhub-staging.smartandpublic.eu/events/03fffbee-e276-42e0-bf7e-daf34b2c1769
END:VEVENT
BEGIN:VEVENT
CATEGORIES:Chro,singen,mitsingen
DESCRIPTION:Der Würzburger Kneipenchor lädt zum großen Jahresfinale. Frei nach dem Motto „Immer noch keine stille Nacht“ haben die rund 40 Sänger*innen ein wildes Set mit heißgeliebten Kneipenchor-Klassikern und neuen Überraschungssongs im Gepäck.\n\nNach dem ausverkauften Konzert im letzten Jahr\, gibt’s dieses Jahr gleich zwei Abende hintereinander volle Kneipenchor-Power: Am 18. & 19.12. (Schnell Tickets sichern ist wahrscheinlich trotzdem keine schlechte Idee...)\n\n
DTEND;TZID=Europe/Berlin:20241218T220000
DTSTAMP:20260421T172034Z
DTSTART;TZID=Europe/Berlin:20241218T200000
GEO:49.789583050000005;9.924926895459958
LOCATION:Fred-Joseph-Platz  97082 Würzburg Bayern Deutschland
ORGANIZER:Stadt Würzburg
STATUS:CONFIRMED
SUMMARY:Kneipenchor: Immer noch keine stille Nacht
UID:6aafb0df-b932-481f-833f-3a45bd7b37fb
URL:https://events.smartcityhub-staging.smartandpublic.eu/events/6aafb0df-b932-481f-833f-3a45bd7b37fb
END:VEVENT
BEGIN:VEVENT
CATEGORIES:jubiläum,vielfalt
DESCRIPTION:Die fünfzigjährige Erfolgsgeschichte des SC Heuchelhof nehmen wir zum Anlass\, um gemeinsam mit unseren Mitgliedern\, deren Familien und allen interessierten Gästen einen tollen Jubiläumstag zu verbringen. Hierzu sind alle sehr herzlich eingeladen und den Höhepunkt bildet ab 12:30 Uhr die Aktion "Buntes Bild der Vielfalt".\n\n\n\n
DTEND;TZID=Europe/Berlin:20241207T200000
DTSTAMP:20260421T172034Z
DTSTART;TZID=Europe/Berlin:20241207T100000
GEO:49.745423;9.957956346341323
LOCATION:Heuchelhof-Halle 5 Berner Straße 97084 Würzburg Bayern Deutschland
ORGANIZER:Christian Zeller
STATUS:CONFIRMED
SUMMARY:50 Jahre SC Heuchelhof
UID:554525d2-388c-4b05-b07f-60ad8f5a9483
URL:https://events.smartcityhub-staging.smartandpublic.eu/events/554525d2-388c-4b05-b07f-60ad8f5a9483
END:VEVENT
BEGIN:VEVENT
DESCRIPTION:Und wieder wird das Dürrbachtal zum Schauplatz seltsamer Umtrieb\, die das Dorf und Ihre Bewohner in Unruhe versetzen. Mit der Wiederaufnahme von "Out of Dürrbachtal" präsentiert die Theatergruppe im Dürrbachtal erneut ein Stück aus der Feder von Johannes Jung. Am 18. und 19. Januar wird das Theaterstück in der ATV-Jahn-Halle zu sehen sein. Eintritt frei\, Platzreservierungen ab sofort bitte per E-Mail an theater-duerrbachtal@web.de.\n\n
DTEND;TZID=Europe/Berlin:20241205T161500
DTSTAMP:20260421T172034Z
DTSTART;TZID=Europe/Berlin:20241205T161500
GEO:49.8145654;9.9175499
LOCATION:Jahngaststätte 169 Dürrbachtal 97080 Würzburg Bayern Deutschland
ORGANIZER:Stadt Würzburg
STATUS:CONFIRMED
SUMMARY:Out of Dürrbachtal
UID:c0c984df-b326-4cf8-930e-18e0ff459aa9
URL:https://events.smartcityhub-staging.smartandpublic.eu/events/c0c984df-b326-4cf8-930e-18e0ff459aa9
END:VEVENT
END:VCALENDAR
